BEGIN:VCALENDAR
PRODID:NingEventWidget-v1
VERSION:2.0
METHOD:PUBLISH
BEGIN:VTIMEZONE
TZID:America/Anguilla
X-LIC-LOCATION:America/Anguilla
BEGIN:STANDARD
TZOFFSETFROM:-0400
TZOFFSETTO:-0400
TZNAME:AST
DTSTART:19700101T000000
END:STANDARD
END:VTIMEZONE
BEGIN:VEVENT
UID:6543066:Event:36950
DTSTAMP:20260422T091924Z
SUMMARY:WEEKLY CHAT - Sunday May 26, 2013 - 6pm EST, 3pm PST
DESCRIPTION:Our Weekly Chats are Sunday at 6 pm Eastern (3pm Pacific, 
 11pm UK time) and encourge everyone to come join for a casual Caddy Ch
 at!\nSo...set your smart phone and \"old school\" alarms to remind you
 rself to come join the fun.\nSee you on Sunday!\n\nFor more informatio
 n visit https://6364cadillac.ning.com/events/weekly-chat-sunday-may-26
 -2013-6pm-est-3pm-pst
DTSTART;TZID=America/Anguilla:20130526T180000
DTEND;TZID=America/Anguilla:20130526T200000
CATEGORIES:weekly, chat
LOCATION:Main Room chat room at bottom of screen
WEBSITE:http://www.6364cadillac.com
URL:http://www.6364cadillac.com
CONTACT:
ORGANIZER;CN="Jason Edge":https://6364cadillac.ning.com/profile/jasone
 dge
ATTACH;FMTTYPE="image/jpeg":http://storage.ning.com/topology/rest/1.0/
 file/get/2235759539?profile=original
ATTENDEE;ROLE=REQ-PARTICIPANT;PARTSTAT=ACCEPTED;RSVP=TRUE;CN="Jason Ed
 ge":https://6364cadillac.ning.com/profile/jasonedge
END:VEVENT
END:VCALENDAR
